BEGIN:VCALENDAR
VERSION:2.0
PRODID:-//Digital Impact North - ECPv6.2.6//NONSGML v1.0//EN
CALSCALE:GREGORIAN
METHOD:PUBLISH
X-ORIGINAL-URL:https://digitalimpactnorth.se
X-WR-CALDESC:Events for Digital Impact North
REFRESH-INTERVAL;VALUE=DURATION:PT1H
X-Robots-Tag:noindex
X-PUBLISHED-TTL:PT1H
BEGIN:VTIMEZONE
TZID:Europe/Stockholm
BEGIN:DAYLIGHT
TZOFFSETFROM:+0100
TZOFFSETTO:+0200
TZNAME:CEST
DTSTART:20240331T010000
END:DAYLIGHT
BEGIN:STANDARD
TZOFFSETFROM:+0200
TZOFFSETTO:+0100
TZNAME:CET
DTSTART:20241027T010000
END:STANDARD
END:VTIMEZONE
BEGIN:VEVENT
DTSTART;TZID=Europe/Stockholm:20240301T124500
DTEND;TZID=Europe/Stockholm:20240301T130000
DTSTAMP:20260424T180913
CREATED:20240202T123125Z
LAST-MODIFIED:20240202T123141Z
UID:17894-1709297100-1709298000@digitalimpactnorth.se
SUMMARY:#frAIday: The Wizard of AI
DESCRIPTION:Warburtons senaste film The Wizard of AI (2023) är en 20 minuter lång videoessä om generativ AI\, producerad ett år efter lanseringen av Midjourney v4. Essän behandlar just denna lansering i november ’22 som ett historiskt ögonblick i visuella kulturer och kreativa ekonomier och fokuserar på de verkliga effekter som denna teknik fortsätter att ha på konstnärer och designers runt om i världen. Videon i sig producerades med hjälp av generativa AI-verktyg och består till 99 % av bilder och videor som skapats med Midjourney\, Stable Diffusion\, Runway och Pika. Konstnären är dock noga med att inte ge efter för den ”wonderpanic” som generativ AI ger upphov till\, utan använder själva verktygen för att diskutera och kritisera de juridiska\, estetiska och etiska problem som AI-automatiserade plattformar ger upphov till. \nWarburton har tidigare fått uppdrag från BBC\, Tate Modern\, Photographers Gallery och Channel 4\, ställt ut på Transmediale\, Ars Electronica och National Gallery of Australia samt haft residens och föreläsningar på V&A\, Somerset House\, Carnegie Mellon och Architecture Association School. \nOm föreläsaren\nAlan Warburton är en mångfacetterad konstnär som specialiserar sig på animation\, författarskap och videoessäer\, med fokus på CGI\, VR\, AR\, installation och skulptur. Detta verk\, som har fått över en miljon visningar\, granskar kritiskt datorgrafik och visuell kultur. Warburton doktorerar för närvarande vid Birkbecks Vasari Centre i London\, och forskar om digitala bilder och arbete. Konstnären har fått uppdrag av välkända institutioner som BBC\, Tate Modern och Channel 4 och har ställt ut sina verk över hela världen.
URL:https://digitalimpactnorth.se/event/fraiday-the-wizard-of-ai/
CATEGORIES:#frAIday,Featured,Med anmälan - Digitalt
ATTACH;FMTTYPE=image/webp:https://digitalimpactnorth.se/wp-content/uploads/2024/02/titlecard22.webp
END:VEVENT
BEGIN:VEVENT
DTSTART;TZID=Europe/Stockholm:20240307T150000
DTEND;TZID=Europe/Stockholm:20240307T160000
DTSTAMP:20260424T180913
CREATED:20240219T122353Z
LAST-MODIFIED:20240320T150741Z
UID:18118-1709823600-1709827200@digitalimpactnorth.se
SUMMARY:Thursday Insights: Hur kan vi lösa kompetensbristen  i norra Sverige?
DESCRIPTION:Ett av de största utmaningarna och prioriteringar som företag och offentlig verksamhet står inför berör kompetensbrist och tillgång till kompetent arbetskraft. Trots att detta är ett prioriterat område ser vi också att det finns fortfarande stora utmaningar och ”vita fläckar” när det kommer till kompetensförsörjning i norra Sverige. \nI ett rundabordsamtal kommer panelen diskutera aktuella frågeställningar som berör kompetensförsörjningen i norra Sverige. Under webbinariet behandlas frågeställningar såsom identifiering och kartläggning av kompetensbehov\, matchning mellan utbud och efterfrågan\, samt utbudet av utbildningsleverantörer. Passet avslutas med en diskussion om rekrytering av talanger och studenter där ett par IT-studenter får ge oss sina insikter och tankar kring att söka jobb i vår region. \nTitta på workshopen i efterhand\nMissade du workshopen? Ta del av workshopen genom att titta på inspelningen. \n \n\n \n\nPanel\nUlf Hedestig – Universitetslektor\, Informatik vid Umeå Universitet\nSara Kandel – Utbildnings- och verksamhetskoordinator\, Akademi Norr\nMagdalena Ahnqvist Olsson – Utbildningsledare\, Lapplands lärcentra \nStudentrepresentanter\nEbba Eriksson – Informatik vid Umeå universitet\nLinnéa Aidanpää – Informatik vid Umeå universitet
URL:https://digitalimpactnorth.se/event/thursday-insights-6/
LOCATION:MIT.A.476\, MIT-huset\, Umeå Universitet\, Campustorget 5\, 901 87 Umeå
CATEGORIES:Workshopserie,Workshopserie - Hybrid
ATTACH;FMTTYPE=image/jpeg:https://digitalimpactnorth.se/wp-content/uploads/2024/02/panel-240307-1.jpg
END:VEVENT
BEGIN:VEVENT
DTSTART;TZID=Europe/Stockholm:20240308T121500
DTEND;TZID=Europe/Stockholm:20240308T130000
DTSTAMP:20260424T180913
CREATED:20240229T071558Z
LAST-MODIFIED:20240229T071636Z
UID:18379-1709900100-1709902800@digitalimpactnorth.se
SUMMARY:#frAIday: Kan AI hjälpa till att förstå mänskliga fel?
DESCRIPTION:Analys av mänskliga fel innebär att man försöker förstå vad gick fel vid en incident. En sådan analys blir ännu svårare när det gäller moderna sociotekniska system\, där mänskliga operatörer interagerar med komplexa system. Olyckor kan inträffa även med ett fullt fungerande system och rationella operatörer. I sådana situationer kan det vara mycket svårt att identifiera orsaken till felet. Som exempel vet vi alla hur lång tid det kan ta att få svar på frågor efter en flygkrasch kan vara. I det här föredraget kommer vi att visa hur AI och logikbaserade resonemang kan hjälpa utredare att utforska de många scenarier som kan förklara olyckan. Vi visar att mänskliga fördomar kan modelleras och användas för att filtrera de möjliga förklaringarna. Detta arbete\, som ligger i gränslandet mellan AI och kognitionsvetenskap\, ger ett exempel på AI-användning som inte försöker ersätta människan\, utan snarare fungera som ett verktyg för att förbättra människan. \nOm föreläsaren \nNicolas Sabouret är är professor vid University Paris-Saclay\, bedriver sin forskning vid LISN\, det tvärvetenskapliga gemensamma institut för digital vetenskap mellan Université Paris-Saclay\, CNRS\, Inria och CentraleSupélec. Han är också chef för forskarskolan i datavetenskap. Nicolas Sabouret är expert på AI. Hans forskning är inriktad på modellering och simulering av mänskligt beteende simulering\, där AI-modeller kombineras med teorier om mänsklig kognition och beslutsfattande från samhällsvetenskap. Hans mål är att bidra till konstruktion av artificiella agenter som antar människoliknande beteenden. Hans forskning tillämpas på olika områden: multi-agent simulering av mänsklig aktivitet för att studera och förutsäga elförbrukning i hushåll; utveckling av konversationsagenter med sociala kompetenser för kundrelationer\, för social träning eller för hälsocoachning; modellering och simulering av mänskliga faktorer i kritiska system.
URL:https://digitalimpactnorth.se/event/fraiday-kan-ai-hjalpa-till-att-forsta-manskliga-fel/
CATEGORIES:#frAIday,Featured,Med anmälan - Digitalt
ATTACH;FMTTYPE=image/webp:https://digitalimpactnorth.se/wp-content/uploads/2024/02/nicolassabouret.webp
END:VEVENT
BEGIN:VEVENT
DTSTART;TZID=Europe/Stockholm:20240314T150000
DTEND;TZID=Europe/Stockholm:20240314T160000
DTSTAMP:20260424T180913
CREATED:20240301T085432Z
LAST-MODIFIED:20240415T053556Z
UID:18601-1710428400-1710432000@digitalimpactnorth.se
SUMMARY:Thursday Insights: Hur kan cirkulära tjänster inom textil nyttja AI?
DESCRIPTION:Under detta webbinarium kommer vi att diskutera hur tjänstedesign och AI kan stötta cirkulära affärsmodeller. Genom praktiska exempel kommer vi att berätta hur det utforskas i projekt på RISE och hur dessa två kraftfulla verktyg kan samarbeta för att skapa hållbara och effektiva affärsmodeller. \nInnehåll i webbinariet: \n\nSnabb genomgång av AI\, design och cirkularitet\nHur kan designprocessen för att ta fram en AI-driven tjänst som stödjer en cirkulär affärsmodell se ut\nPraktiska exempel från RISE och second hand-branschen\nFrågestund \n\nTitta på workshopen i efterhand\nMissade du workshopen? Ta del av workshopen genom att titta på inspelningen. \n \n\n \nFöreläsare\nHanna Nordenö – Designer\, RISE\nConny Björnehall – Fokusområdesledare inom Digitalisering\, RISE \nHanna har lång erfarenhet av designprocessen och jobbar med cirkulär omställning speciellt för modebranschen. Conny har lång erfarenhet från offentlig sektor där han jobbat med digitalisering och digital transformation under många år.
URL:https://digitalimpactnorth.se/event/thursday-insights-7/
CATEGORIES:Workshopserie,Workshopserie - Digitalt
ATTACH;FMTTYPE=image/jpeg:https://digitalimpactnorth.se/wp-content/uploads/2024/03/hanna-conny-scaled-e1710146648452.jpg
END:VEVENT
BEGIN:VEVENT
DTSTART;TZID=Europe/Stockholm:20240321T150000
DTEND;TZID=Europe/Stockholm:20240321T160000
DTSTAMP:20260424T180913
CREATED:20240311T085713Z
LAST-MODIFIED:20240415T053601Z
UID:19654-1711033200-1711036800@digitalimpactnorth.se
SUMMARY:Thursday Insights: Intelligent augmentation: ett alternativ för framtidens arbete
DESCRIPTION:Vanligtvis förknippar vi begreppet Artificiell Intelligens med att anpassa och förstärka maskiner med mänskliga förmågor så att de kan fungera på egen hand. Ett sådant perspektiv leder ofta till kritiska röster som berör automatiseringens konsekvenser\,  att tusentals jobb elimineras eller att hela yrkeskårer försvinner. Men\, i själva verket handlar mycket av AI på att undersöka hur användarorienterade tekniker\, t ex intelligent augmentation (förstärkt intelligens) kan användas för att förstärka människans förmågor på sin arbetsplats. \nProfessor Mikael Wiberg\, institutionen för Informatik vid Umeå universitet presenterar under detta webinarium en översikt av begreppet förstärkt intelligens och dess relation till AI. Han kommer att ge oss en inblick hur användarorienterade ansatser historiskt har använts när olika typer av framväxande teknologier introducerats i vårt samhälle. Webinariet avslutas med ett rundabordsamtal med ett antal inbjudna gäster som diskuterar hur disruptiva teknologierna påverkar det framtida arbetet. \nTitta på workshopen i efterhand\nMissade du workshopen? Ta del av workshopen genom att titta på inspelningen.\n \n\n \nMikael Wiberg\nInstitutionen för Informatik\, Umeå Universitet
URL:https://digitalimpactnorth.se/event/thursday-insights-8/
LOCATION:MIT.A.476\, MIT-huset\, Umeå Universitet\, Campustorget 5\, 901 87 Umeå
CATEGORIES:Workshopserie,Workshopserie - Hybrid
ATTACH;FMTTYPE=image/jpeg:https://digitalimpactnorth.se/wp-content/uploads/2024/03/mikael-wiberg-1-e1710860695314.jpg
END:VEVENT
END:VCALENDAR