BEGIN:VCALENDAR
VERSION:2.0
PRODID:-//Digital Impact North - ECPv6.2.6//NONSGML v1.0//EN
CALSCALE:GREGORIAN
METHOD:PUBLISH
X-ORIGINAL-URL:https://digitalimpactnorth.se
X-WR-CALDESC:Events for Digital Impact North
REFRESH-INTERVAL;VALUE=DURATION:PT1H
X-Robots-Tag:noindex
X-PUBLISHED-TTL:PT1H
BEGIN:VTIMEZONE
TZID:Europe/Stockholm
BEGIN:DAYLIGHT
TZOFFSETFROM:+0100
TZOFFSETTO:+0200
TZNAME:CEST
DTSTART:20230326T010000
END:DAYLIGHT
BEGIN:STANDARD
TZOFFSETFROM:+0200
TZOFFSETTO:+0100
TZNAME:CET
DTSTART:20231029T010000
END:STANDARD
END:VTIMEZONE
BEGIN:VEVENT
DTSTART;TZID=Europe/Stockholm:20231201T121500
DTEND;TZID=Europe/Stockholm:20231201T130000
DTSTAMP:20260425T054249
CREATED:20231127T123238Z
LAST-MODIFIED:20231127T123304Z
UID:15859-1701432900-1701435600@digitalimpactnorth.se
SUMMARY:#frAIday: Vän eller fiende? Hur AI utmanar lagens syn på konst
DESCRIPTION:Hur påverkar befintliga lagar AI-baserad konst? Vilka juridiska frågor uppstår i varje steg av AI-produktionskedjan? \nAllt fler konstnärer använder sig av maskininlärning som verktyg för att skapa konstverk. Samtidigt som vi ser hur nya lagar och policyer utvecklas för att hantera riskerna med AI mer generellt\, finns det flera befintliga rättsområden som redan stör detta innovativa sätt att skapa konst. Detta föredrag kommer att utforska dessa befintliga rättsområden – särskilt immaterialrätt\, avtal och integritet – genom att analysera de rättsliga frågor som kan uppstå i varje lager av AI-produktionen\, från de grundläggande fysiska lagren till de olika protokollslagren. Presenteras som en del av den pågående forskningen inom Serpentine Legal Lab och Creative AI Lab.
URL:https://digitalimpactnorth.se/event/fraiday-van-eller-fiende-hur-ai-utmanar-lagens-syn-pa-konst/
CATEGORIES:Featured,Med anmälan - Digitalt
ATTACH;FMTTYPE=image/webp:https://digitalimpactnorth.se/wp-content/uploads/2023/11/fraiday-alana_kushnir.webp
END:VEVENT
BEGIN:VEVENT
DTSTART;TZID=Europe/Stockholm:20231204T100000
DTEND;TZID=Europe/Stockholm:20231204T150000
DTSTAMP:20260425T054249
CREATED:20231030T151008Z
LAST-MODIFIED:20231030T151133Z
UID:15385-1701684000-1701702000@digitalimpactnorth.se
SUMMARY:Användarforum för Skogliga grunddata
DESCRIPTION:Välkommen till årets Användarforum!\nDen 4:e december genomförs nästa digitala användarforum för Skogliga grunddata. \nSista anmälningsdag den 30 november. Anmäl dig här. \nProgram\nKl 10-12: Inledning och aktuell information\nKl 12-13: Lunch\nKl 13-15: Inspirationsföreläsningar
URL:https://digitalimpactnorth.se/event/anvandarforum-for-skogliga-grunddata/
CATEGORIES:Featured,Med anmälan - Digitalt
ATTACH;FMTTYPE=image/jpeg:https://digitalimpactnorth.se/wp-content/uploads/2023/10/laserscanningsvy_kopia.jpg
END:VEVENT
BEGIN:VEVENT
DTSTART;TZID=Europe/Stockholm:20231205T110000
DTEND;TZID=Europe/Stockholm:20231206T130000
DTSTAMP:20260425T054249
CREATED:20231019T122204Z
LAST-MODIFIED:20231127T122820Z
UID:14670-1701774000-1701867600@digitalimpactnorth.se
SUMMARY:Mötesplats Digitala Västerbotten
DESCRIPTION:Norra Sveriges största konferens om digitalisering och verksamhetsutveckling.\nMötesplats Digitala Västerbotten vill inspirera\, öka kunskap och underlätta för samverkan mellan individer\, företag och organisationer. Delta online via en sändningsplattform eller i prisbelönta och klimatsmarta Sara Kulturhus i Skellefteå. \nLäs mer om evenemanget. \nGuldmolnet\nMissa inte Guldmolnet som delas ut på kvällen den 5 december. Guldmolnet är Västerbottens utmärkelse till verksamheter i offentlig sektor som utvecklar länet med hjälp av digitalisering. Priset är instiftat av Strategirådet för digital utveckling för att lyfta och motivera det arbete som görs inom det här spännande fältet.
URL:https://digitalimpactnorth.se/event/motesplats-digitala-vasterbotten/
LOCATION:Sara Kulturhus\, Kanalgatan 43b\, 931 31 Skellefteå
CATEGORIES:Featured,Med anmälan
ATTACH;FMTTYPE=image/jpeg:https://digitalimpactnorth.se/wp-content/uploads/2023/10/guldmolnet-digitala-vb.jpg
END:VEVENT
BEGIN:VEVENT
DTSTART;TZID=Europe/Stockholm:20231208T121500
DTEND;TZID=Europe/Stockholm:20231208T130000
DTSTAMP:20260425T054249
CREATED:20240104T150247Z
LAST-MODIFIED:20240112T075913Z
UID:15993-1702037700-1702040400@digitalimpactnorth.se
SUMMARY:#frAIday: Automatiseringens ironi - Mänskliga användare i AI-eran
DESCRIPTION:Detta event\, som vanligtvis endast hålls via Zoom\, kommer denna gång även äga rum i MIT.A.216 på Umeå Universitet. Talaren kommer att finnas på plats och en enkel lunch serveras till de 20 första som dyker upp. Ni är välkomna att ta med er egen lunch om ni önskar. Välkomna! \n1983\, när jag var två år gammal\, publicerade Lisanne Bainbridge en artikel som har blivit en klassiker inom robotik och automation. I artikeln\, med titeln ”Ironies of automation”\, diskuteras den mänskliga operatörens roll i en industri som blir alltmer automatiserad\, och den framväxande arbetsfördelningen presenteras som en ironi. I atomiseringens tidsålder förväntas den mänskliga operatören ta över först när saker går fel\, men med minskad insikt i alltmer automatiserade system. Nu\, 40 år senare\, befinner vi oss mitt i en ny våg av automatisering av många typer av jobb\, även utanför industrin\, och Bainbridges arbete framstår som mer relevant än någonsin. Jag\, docent Erik Billing\, kommer att presentera min syn på hur digitaliseringen påverkar användarnas kompetens genom att blanda den senaste utvecklingen inom människa-robot-interaktion och virtual reality-träning med den historiska rörelse som ofta kallas ”deskilling”.
URL:https://digitalimpactnorth.se/event/fraiday-automatiseringens-ironi-manskliga-anvandare-i-ai-eran/
LOCATION:Umeå Universitet\, Campustorget 5\, 901 87 Umeå
CATEGORIES:Featured,Med anmälan
ATTACH;FMTTYPE=image/webp:https://digitalimpactnorth.se/wp-content/uploads/2024/01/erikbilling-60362.webp
END:VEVENT
BEGIN:VEVENT
DTSTART;TZID=Europe/Stockholm:20231212T130000
DTEND;TZID=Europe/Stockholm:20231212T143000
DTSTAMP:20260425T054249
CREATED:20231201T103719Z
LAST-MODIFIED:20231201T103801Z
UID:15865-1702386000-1702391400@digitalimpactnorth.se
SUMMARY:Skrivarstuga EIC Accelerator
DESCRIPTION:Få hjälp och stöd med din ansökan till EIC Accelerator short application\n\nEUSME Supportkontor arrangerar den 12 december en kostnadsfri digital workshop om EIC Accelerator (Short application). Programmet är en del av Europeiska innovationsrådet satsning på att stötta innovativa små- medelstora företag med stora ambitioner. Workshopen går igenom syftet med programmet och hur en ansökan till EIC Accelerator bör läggas upp. Steg för steg kommer vi att beskriva hela ansökningsprocessen och ge dig trygghet och kunskap i de olika momenten. \nMålet med workshopen är att förmedla en förståelse för EIC-programmet\, ansökningsprocessen och berätta hur expertbedömarna utvärderar projektansökans potential.
URL:https://digitalimpactnorth.se/event/skrivarstuga-eic-accelerator/
CATEGORIES:Featured,Med anmälan - Digitalt
ATTACH;FMTTYPE=image/jpeg:https://digitalimpactnorth.se/wp-content/uploads/2023/12/skrivarstuga-eic-acc-short-231212.jpg
END:VEVENT
BEGIN:VEVENT
DTSTART;TZID=Europe/Stockholm:20231215T121500
DTEND;TZID=Europe/Stockholm:20231215T130000
DTSTAMP:20260425T054249
CREATED:20240104T145925Z
LAST-MODIFIED:20240112T075919Z
UID:15990-1702642500-1702645200@digitalimpactnorth.se
SUMMARY:#frAIday: Introduktion till social AI - Att utrusta maskiner med social intelligens
DESCRIPTION:Målet med denna föreläsning är att ge en introduktion till social AI\, den domän som syftar till att förstå mänskligt beteende i termer av sociala och psykologiska fenomen. Efter att ha redogjort för de viktigaste idéerna bakom social AI kommer föreläsningen att ge ett exempel på hur denna domän fungerar\, från insamling av data till utveckling av lämpliga tillvägagångssätt samt analys och tolkning av resultat. Slutligen kommer föredraget att ge en översikt över nuvarande aktiviteter inom social AI vid University of Glasgow\, med fokus på möjliga samarbeten med Umeå universitet.
URL:https://digitalimpactnorth.se/event/fraiday-introduktion-till-social-ai-att-utrusta-maskiner-med-social-intelligens/
CATEGORIES:Featured,Med anmälan - Digitalt
ATTACH;FMTTYPE=image/webp:https://digitalimpactnorth.se/wp-content/uploads/2024/01/vinciarelli_alessandro_headshot.webp
END:VEVENT
END:VCALENDAR