BEGIN:VCALENDAR
VERSION:2.0
PRODID:-//Digital Impact North - ECPv6.2.6//NONSGML v1.0//EN
CALSCALE:GREGORIAN
METHOD:PUBLISH
X-WR-CALNAME:Digital Impact North
X-ORIGINAL-URL:https://digitalimpactnorth.se
X-WR-CALDESC:Events for Digital Impact North
REFRESH-INTERVAL;VALUE=DURATION:PT1H
X-Robots-Tag:noindex
X-PUBLISHED-TTL:PT1H
BEGIN:VTIMEZONE
TZID:Europe/Stockholm
BEGIN:DAYLIGHT
TZOFFSETFROM:+0100
TZOFFSETTO:+0200
TZNAME:CEST
DTSTART:20230326T010000
END:DAYLIGHT
BEGIN:STANDARD
TZOFFSETFROM:+0200
TZOFFSETTO:+0100
TZNAME:CET
DTSTART:20231029T010000
END:STANDARD
END:VTIMEZONE
BEGIN:VEVENT
DTSTART;TZID=Europe/Stockholm:20231103T121500
DTEND;TZID=Europe/Stockholm:20231103T130000
DTSTAMP:20260422T035726
CREATED:20231030T145418Z
LAST-MODIFIED:20231030T145418Z
UID:15376-1699013700-1699016400@digitalimpactnorth.se
SUMMARY:#frAIday: The Art of Environmental Intelligence
DESCRIPTION:Kan ny teknik som AI skapa nya organiska relationer eller förstärker de bara befintliga maktstrukturer? Hur omdefinerar konstnärer dessa tekniker och deras roll i våra liv? Konstnärer som arbetar med den senaste utvecklingen inom artificiell intelligens följer en lång historia av konstnärligt arbete som utforskar politiken och oavsiktliga konsekvenser av datateknologier genom strategier som hacking\, missbruk och öppna experiment. I detta seminarium kommer Tega Brain  att dela med sig av sitt senaste arbete som undersöker möjligheterna och begränsningarna med data\, kvantifiering och artificiell intelligens inom miljöforskning och ekologisk förvaltning. \n#frAIday är en föreläsningsserie om artificiell intelligens där forskare från Umeå universitet och internationellt hyllade experter delar sina senaste rön. Att medverka är din möjlighet att ta del av erfarenhet och kunskap inom AI\, men också att lära dig mer och diskutera ett brett spektrum av perspektiv och träffa nya intressanta människor!
URL:https://digitalimpactnorth.se/event/fraiday-the-art-of-environmental-intelligence/
CATEGORIES:Featured,Med anmälan - Digitalt
ATTACH;FMTTYPE=image/webp:https://digitalimpactnorth.se/wp-content/uploads/2023/10/fraiday-tegabrian.webp
END:VEVENT
BEGIN:VEVENT
DTSTART;TZID=Europe/Stockholm:20231101T120000
DTEND;TZID=Europe/Stockholm:20231102T200000
DTSTAMP:20260422T035726
CREATED:20231018T131053Z
LAST-MODIFIED:20231019T135200Z
UID:14371-1698840000-1698955200@digitalimpactnorth.se
SUMMARY:Tech days
DESCRIPTION:Välkommen till höstlovsdagar med tech-tema i Gällivare\nEfter förra årets succé är vi glada att meddela att Tech Days Gällivare är tillbaka! \nKom och testa den senaste tekniken på mässan där innovation och inspiration står i fokus\, det blir två dagar maxade med upplevelser. \nDörrarna öppnas klockan 12.00 och stänger inte förrän klockan 20.00. Vissa av aktiviteterna kräver föranmälan men alla är kostnadsfria. Under Tech Days Gällivare finns också möjlighet att delta i olika tävlingar och vinna fina priser.
URL:https://digitalimpactnorth.se/event/tech-days/
LOCATION:Kunskapshuset Gällivare\, Postgatan\, 982 31 Gällivare
CATEGORIES:Featured,Med läs mer
ATTACH;FMTTYPE=image/jpeg:https://digitalimpactnorth.se/wp-content/uploads/2023/10/tech-days.jpg
END:VEVENT
BEGIN:VEVENT
DTSTART;TZID=Europe/Stockholm:20231017T170000
DTEND;TZID=Europe/Stockholm:20231017T200000
DTSTAMP:20260422T035726
CREATED:20231017T120712Z
LAST-MODIFIED:20231018T152301Z
UID:14183-1697562000-1697572800@digitalimpactnorth.se
SUMMARY:Ladies Time i Åsele
DESCRIPTION:Tisdag den 17/10 välkomnas kvinnliga företagare och kvinnor i ledande position till en kväll på Åsele Kulturhus. \nDatum: Tisdag den 17 oktober\nTid: 17.30-20.00\nPlats: Kulturhuset i Åsele \nProgram\n– Kvällen inleds med en gemensam middag.\n– Umeå universitet beskriver hur man kan arbeta med och utforma ett digitalt nätverk.\n– Dialog runt borden där deltagarna får möjlighet att nätverka. \nAnmäl dig här. Sista anmälningsdag den 9/10.
URL:https://digitalimpactnorth.se/event/ladies-time-i-asele/
LOCATION:Åsele Kulturhus\, Lillgatan 2\, 910 60 Åsele
CATEGORIES:Med anmälan
ATTACH;FMTTYPE=image/jpeg:https://digitalimpactnorth.se/wp-content/uploads/2023/10/inbjudan-ladies-time.jpg
END:VEVENT
BEGIN:VEVENT
DTSTART;TZID=Europe/Stockholm:20231010T180000
DTEND;TZID=Europe/Stockholm:20231010T200000
DTSTAMP:20260422T035726
CREATED:20231018T155227Z
LAST-MODIFIED:20231018T155348Z
UID:14358-1696960800-1696968000@digitalimpactnorth.se
SUMMARY:Kulturlyftet Örnsköldsvik
DESCRIPTION:Den 10 oktober bjuder Bygdsam Nätradalen och Örnsköldsviks kommun in alla som vill bidra till ett ökat kulturutbud i Örnsköldsviks kommun. \nProgram\n17.30 Stadshuset Kronan\, Järnvägsgatan 6 Örnsköldsvik\, (matigare macka)\n18.00 Programstart \nKultur och välmående går hand i hand och skapar en meningsfull fritid för ung som gammal. Kultur bidrar till ökad trivsel och en attraktivare plats att flytta till. Kultur bidrar till mångfald och inkludering. \nOavsett om du är kulturskapare\, kulturkonsument\, kulturarrangör eller bara brinner för att utveckla din plats så är du välkommen. \nAnmäl deltagande senast 5/10 till: kontakt@bygdsamnatradalen.se
URL:https://digitalimpactnorth.se/event/kulturlyftet-ornskoldsvik/
LOCATION:Stadshuset Kronan\, Nygatan 16\, 891 33 Örnsköldsvik
CATEGORIES:Med anmälan
ATTACH;FMTTYPE=image/jpeg:https://digitalimpactnorth.se/wp-content/uploads/2023/10/Kulturlyftet-Örnsköldsvik.jpg
END:VEVENT
BEGIN:VEVENT
DTSTART;TZID=Europe/Stockholm:20231006T153000
DTEND;TZID=Europe/Stockholm:20231008T170000
DTSTAMP:20260422T035726
CREATED:20231019T085128Z
LAST-MODIFIED:20231019T131434Z
UID:14356-1696606200-1696784400@digitalimpactnorth.se
SUMMARY:Innovation Boot Camp
DESCRIPTION:Välkommen till ett spännande och intensivt flerdagsevent där du som deltagare\, med stöd av erfarna affärscoacher\, får möjlighet att utveckla och tävla med din affärsidé. Kreativiteten står i fokus och deltagarna får arbeta intensivt under 24 timmar med att utveckla sina idéer. \nVem kan delta?\nTävlingen riktar sig främst till studenter vid Umeå universitet och Sveriges lantbruksuniversitet (SLU) men är öppen för alla som är bosatta i Västerbottens län. \nNär?\n6-8 Oktober\nSista anmälningsdag: 26 september 17.00\, deltagande är kostnadsfritt \nMer information och anmälan finns på eventsidan. \nArrangörer\nInnovation Boot Camp 2022 organiseras av Innovationskontoret vid Umeå universitet i samarbete med A working Lab\, Uminova Innovation\, SLU Holding\, Ung företagsamhet\, Venture Cup\, eXpression Umeå\, Coompanion\, Region Västerbotten och Almi.
URL:https://digitalimpactnorth.se/event/innovation-boot-camp/
LOCATION:A working lab Universum\, Universums gränd 8\, 907 36 Umeå
CATEGORIES:Med anmälan
ATTACH;FMTTYPE=image/jpeg:https://digitalimpactnorth.se/wp-content/uploads/2023/10/innovation-bootcamp-1-e1697706697171.jpeg
END:VEVENT
BEGIN:VEVENT
DTSTART;TZID=Europe/Stockholm:20231002T080000
DTEND;TZID=Europe/Stockholm:20231005T170000
DTSTAMP:20260422T035726
CREATED:20231018T160025Z
LAST-MODIFIED:20231019T072628Z
UID:14353-1696233600-1696525200@digitalimpactnorth.se
SUMMARY:Nordea Summit North
DESCRIPTION:Norra Sverige står inför en historisk tillväxtfas och ett växande kompetensbehov. Vi har skapat Nordea Summit North för att sätta ljuset på de stora investeringar som nu sker i regionen\, och som kommer att skapa inflyttning och behov av kompetens och kapital. Där har vi som bank en viktig roll att spela i omställningen – att hjälpa våra kunder med grön finansiering\, nätverk och expertis. \nNordea sammanför under evenemanget näringsliv\, investerare och experter för att belysa och starta dialog. \nNordea Summit North pågår den 2-5 oktober 2023 i Norrbotten och Västerbotten\, fysiskt på plats men också i digitala kanaler med livesända event. \nDu är välkommen att lyssna in på ett spännande panelsamtal med företrädare från Nordea och aktörer i norra Sverige. Temat för årets panelsamtal är ”Hur bygger vi attraktiva och hållbara samhällen”.
URL:https://digitalimpactnorth.se/event/nordea-summit-north/
LOCATION:Västerbotten\, Norrbotten
CATEGORIES:Med anmälan
END:VEVENT
BEGIN:VEVENT
DTSTART;TZID=Europe/Stockholm:20230919T095500
DTEND;TZID=Europe/Stockholm:20230919T111000
DTSTAMP:20260422T035726
CREATED:20231018T105638Z
LAST-MODIFIED:20231018T155615Z
UID:14349-1695117300-1695121800@digitalimpactnorth.se
SUMMARY:Lansering av Digital Impact North
DESCRIPTION:Välkommen till lansering av Digital Impact North.\n\n\n\nFör dig som jobbar med digitalisering av offentlig verksamhet eller små och medelstora företag i norra Sverige och vill skapa attraktiva förutsättningar för digital omställning. Digital Impact North är en europeisk digital innovationshub  som lanseras den 19 september 2023. Uppdraget är att stödja organisationers digitalisering och accelerera den digitala omställningen i regionen. \nDelta digitalt via Zoom eller i MIT-huset\, Umeå Universitet \nVarmt välkommen! \n\n\n\n 
URL:https://digitalimpactnorth.se/event/lansering/
LOCATION:Umeå Universitet\, Campustorget 5\, 901 87 Umeå
CATEGORIES:Med anmälan
ATTACH;FMTTYPE=image/jpeg:https://digitalimpactnorth.se/wp-content/uploads/2023/09/header-img-scaled-e1696887651485.jpg
END:VEVENT
END:VCALENDAR