BEGIN:VCALENDAR
VERSION:2.0
PRODID:-//Digital Impact North - ECPv6.2.6//NONSGML v1.0//EN
CALSCALE:GREGORIAN
METHOD:PUBLISH
X-ORIGINAL-URL:https://digitalimpactnorth.se
X-WR-CALDESC:Events for Digital Impact North
REFRESH-INTERVAL;VALUE=DURATION:PT1H
X-Robots-Tag:noindex
X-PUBLISHED-TTL:PT1H
BEGIN:VTIMEZONE
TZID:Europe/Stockholm
BEGIN:DAYLIGHT
TZOFFSETFROM:+0100
TZOFFSETTO:+0200
TZNAME:CEST
DTSTART:20240331T010000
END:DAYLIGHT
BEGIN:STANDARD
TZOFFSETFROM:+0200
TZOFFSETTO:+0100
TZNAME:CET
DTSTART:20241027T010000
END:STANDARD
END:VTIMEZONE
BEGIN:VEVENT
DTSTART;TZID=Europe/Stockholm:20240502T150000
DTEND;TZID=Europe/Stockholm:20240502T160000
DTSTAMP:20260424T164521
CREATED:20240422T115955Z
LAST-MODIFIED:20240503T063140Z
UID:19777-1714662000-1714665600@digitalimpactnorth.se
SUMMARY:Thursday Insights: Accelerera din digitala omställning med hjälp av DIN
DESCRIPTION:Vill du veta mer om hur Digital Impact North kan stötta ditt företag eller organisation med grön och digital omställning? \nSom en del av Europa i min region presenteras Digital Impact North och de tjänster som vi erbjuder till små- och medelstora företag och offentlig verksamhet som en europeisk digital innovationshub (EDIH). \nInnehåll i webbinariet: \n\nSyfte och inriktning med innovationshubbens arbete.\nKonkreta exempel på stöd som har erbjudits till företag och organisationer.\nSammanfattning om kommande aktiviteter.\nFrågor och svar.
URL:https://digitalimpactnorth.se/event/thursday-insights-12/
CATEGORIES:Med anmälan - Digitalt
ATTACH;FMTTYPE=image/jpeg:https://digitalimpactnorth.se/wp-content/uploads/2024/04/eu-i-min-region-scaled-1.jpg
END:VEVENT
END:VCALENDAR