BEGIN:VCALENDAR
VERSION:2.0
PRODID:-//Digital Impact North - ECPv6.2.6//NONSGML v1.0//EN
CALSCALE:GREGORIAN
METHOD:PUBLISH
X-WR-CALNAME:Digital Impact North
X-ORIGINAL-URL:https://digitalimpactnorth.se
X-WR-CALDESC:Events for Digital Impact North
REFRESH-INTERVAL;VALUE=DURATION:PT1H
X-Robots-Tag:noindex
X-PUBLISHED-TTL:PT1H
BEGIN:VTIMEZONE
TZID:Europe/Stockholm
BEGIN:DAYLIGHT
TZOFFSETFROM:+0100
TZOFFSETTO:+0200
TZNAME:CEST
DTSTART:20240331T010000
END:DAYLIGHT
BEGIN:STANDARD
TZOFFSETFROM:+0200
TZOFFSETTO:+0100
TZNAME:CET
DTSTART:20241027T010000
END:STANDARD
END:VTIMEZONE
BEGIN:VEVENT
DTSTART;TZID=Europe/Stockholm:20240425T150000
DTEND;TZID=Europe/Stockholm:20240425T160000
DTSTAMP:20260424T181505
CREATED:20240416T083250Z
LAST-MODIFIED:20240604T125710Z
UID:19766-1714057200-1714060800@digitalimpactnorth.se
SUMMARY:Thursday Insights: Digital innovation och AI i skogssektorn – möjligheter och utmaningar
DESCRIPTION:Tillgången till högupplöst digital information ökar snabbt i den skogliga sektorn. Automatisk bearbetning av data tillhandahåller en viktig grund för planerings- och beslutsstöd\, vilket möjliggör ett miljövänligt\, effektivt och resurssnålare nyttjande av våra skogsresurser. \nUnder denna workshop kommer vi att få en inblick i den digitala utvecklingen inom skogssektorn genom exempel på hur ny teknik och öppna data har revolutionerat digitalisering och innovation. Vi kommer att diskutera de utmaningar som sektorn står inför och hur samverkan mellan akademi\, myndigheter\, större skogsföretag och teknikentreprenörer skapar förutsättningar för fortsatt utveckling. \nInnehåll i webbinariet:  \n\nSkogssektorns digitala resa och dagens utmaningar\nExempel från myndigheter\, företag och akademi\nDiskussion och frågestund\n\nTitta på workshopen i efterhand\nMissade du workshopen? Ta del av workshopen genom att titta på inspelningen.\n \n\n \nPatrik André är digitaliseringsstrateg på Skogsstyrelsen och har lång erfarenhet av nationellt utvecklingsarbete kopplat till digitalisering inom skogssektorn. Patrik är ordförande för branchorganisationen Geoforum Sverige\, styrgruppsmedlem i det nationella Geodatarådet och styrelsemedlem i AI-Sweden. \nFredrik Walter är VD och utvecklingsansvarig på Dianthus AB\, som är ett skogligt analysföretag med spetskompetens inom geografisk informationsanalys och fjärranalys. Dianthus erbjuder skogsindustrin i Sverige specialiserade geografiska data för att stödja ekonomiska och långsiktigt hållbara beslut. Fredrik är jägmästare och har disputerat inom ämnet skoglig bild- och fjärranalys. \nAnna-Lena Axelsson är samverkansledare och forskare vid SLU:s skogsvetenskapliga fakultet i Umeå. Hon är en av initiativtagarna till Skogsdatalabbet\, som är en samverkansplattform för att främja digitalisering och innovation på skogliga data\, och verksam inom Digital Impact North.
URL:https://digitalimpactnorth.se/event/thursday-insights-11/
CATEGORIES:Workshopserie,Workshopserie - Digitalt
ATTACH;FMTTYPE=image/png:https://digitalimpactnorth.se/wp-content/uploads/2024/04/patrik-fredrik-annalena.png
END:VEVENT
END:VCALENDAR