BEGIN:VCALENDAR
VERSION:2.0
PRODID:-//Digital Impact North - ECPv6.2.6//NONSGML v1.0//EN
CALSCALE:GREGORIAN
METHOD:PUBLISH
X-WR-CALNAME:Digital Impact North
X-ORIGINAL-URL:https://digitalimpactnorth.se
X-WR-CALDESC:Events for Digital Impact North
REFRESH-INTERVAL;VALUE=DURATION:PT1H
X-Robots-Tag:noindex
X-PUBLISHED-TTL:PT1H
BEGIN:VTIMEZONE
TZID:Europe/Stockholm
BEGIN:DAYLIGHT
TZOFFSETFROM:+0100
TZOFFSETTO:+0200
TZNAME:CEST
DTSTART:20240331T010000
END:DAYLIGHT
BEGIN:STANDARD
TZOFFSETFROM:+0200
TZOFFSETTO:+0100
TZNAME:CET
DTSTART:20241027T010000
END:STANDARD
END:VTIMEZONE
BEGIN:VEVENT
DTSTART;TZID=Europe/Stockholm:20240418T150000
DTEND;TZID=Europe/Stockholm:20240418T160000
DTSTAMP:20260424T180659
CREATED:20240415T054855Z
LAST-MODIFIED:20240422T071033Z
UID:19755-1713452400-1713456000@digitalimpactnorth.se
SUMMARY:Thursday Insights: Att skapa en egen ChatGPT – är det möjligt utan att vara en AI-expert?
DESCRIPTION:I samband med att allt fler av oss provar på att använda olika typer av generativ AI såsom Copilot och Chat GPT kanske du också har funderat på vad som krävs för att skaffa en lokal och intern installation av GAI. Är det kostsamt och kräver det speciella kompetenser? En följdfråga är att vi inte bara måste förstå hur vi ställer våra frågor till AI-systemet\, utan inse också att det finns andra funktioner som vi måste ta hänsyn till\, t ex valet av vilken språkmodell som vi ska använda – och det finns idag massor av sådana (Chat-GPT\, Bard\, Bert\, Llama 2\, T5\, XL-net osv. \nErik Grahn Järlund\, systemadministratör vid Informatik\, Umeå universitet kommer i detta webinarium ge en översiktlig genomgång om möjligheter och begränsningar med att installera en egen version av GAI och vad man behöver tänka på och vad olika funktioner spelar för roll när vi praktiskt vill använda systemet i något speciellt syfte. \nTitta på workshopen i efterhand\nMissade du workshopen? Ta del av workshopen genom att titta på inspelningen. \n \n\n \nErik Grahn Järlund\nIT-systemadministratör\, Institutionen för informatik
URL:https://digitalimpactnorth.se/event/thursday-insights-10/
LOCATION:MIT.A.476\, MIT-huset\, Umeå Universitet\, Campustorget 5\, 901 87 Umeå
CATEGORIES:Workshopserie,Workshopserie - Hybrid
ATTACH;FMTTYPE=image/jpeg:https://digitalimpactnorth.se/wp-content/uploads/2024/04/erik-gj-scaled-e1719464770699.jpg
END:VEVENT
BEGIN:VEVENT
DTSTART;TZID=Europe/Stockholm:20240418T173000
DTEND;TZID=Europe/Stockholm:20240418T190000
DTSTAMP:20260424T180659
CREATED:20240409T123812Z
LAST-MODIFIED:20240409T123812Z
UID:19750-1713461400-1713466800@digitalimpactnorth.se
SUMMARY:AI Umeå: Den etiska labyrinten - Insikter i datavetenskap och integritet
DESCRIPTION:Ny träff med AI Umeå\, ett forum för alla AI-proffs\, entusiaster\, forskare och branschledare som brinner för artificiell intelligens. Gästar gör Lili Jiang\, docent vid Institutionen för datavetenskap\, Umeå universitet. Hennes forskning fokuserar på att fusionera datavetenskap\, AI och AI-pålitlighet (t.ex. integritet\, rättvisa). Lilis arbete kretsar kring datadriven forskning med särskilt fokus på kunskapsutvinning från användargenererat innehåll\, tänk sociala medier. Genom tekniker som datautvinning\, länkning och federation navigerar hon i det intrikata landskapet av dataintegritet.
URL:https://digitalimpactnorth.se/event/ai-umea-den-etiska-labyrinten-insikter-i-datavetenskap-och-integritet/
LOCATION:Uminova Innovation\, Tvistevägen 47A\, 907 29 Umeå
CATEGORIES:Featured,Med anmälan
ATTACH;FMTTYPE=image/png:https://digitalimpactnorth.se/wp-content/uploads/2024/04/AI-UMEÅ-4.png
END:VEVENT
END:VCALENDAR