BEGIN:VCALENDAR
VERSION:2.0
PRODID:-//Digital Impact North - ECPv6.2.6//NONSGML v1.0//EN
CALSCALE:GREGORIAN
METHOD:PUBLISH
X-WR-CALNAME:Digital Impact North
X-ORIGINAL-URL:https://digitalimpactnorth.se
X-WR-CALDESC:Events for Digital Impact North
REFRESH-INTERVAL;VALUE=DURATION:PT1H
X-Robots-Tag:noindex
X-PUBLISHED-TTL:PT1H
BEGIN:VTIMEZONE
TZID:Europe/Stockholm
BEGIN:DAYLIGHT
TZOFFSETFROM:+0100
TZOFFSETTO:+0200
TZNAME:CEST
DTSTART:20240331T010000
END:DAYLIGHT
BEGIN:STANDARD
TZOFFSETFROM:+0200
TZOFFSETTO:+0100
TZNAME:CET
DTSTART:20241027T010000
END:STANDARD
END:VTIMEZONE
BEGIN:VEVENT
DTSTART;TZID=Europe/Stockholm:20240404T150000
DTEND;TZID=Europe/Stockholm:20240404T160000
DTSTAMP:20260424T181430
CREATED:20240328T092208Z
LAST-MODIFIED:20240415T053608Z
UID:19730-1712242800-1712246400@digitalimpactnorth.se
SUMMARY:Thursday Insights: Cybersäkerhet inom hälso- och sjukvården
DESCRIPTION:Workshopen handlar om cybersäkerhet och hotbild med fokus på utmaningar och lösningar för hälso- och sjukvården. Flera perspektiv och frågeställningar hänger samman med andra områden i samhället och inte minst verksamheter med starka kopplingar till digitalisering och AI. Frågor och dialog från deltagare på workshopen välkomnas med utgångspunkt från presentationen. \nTitta på workshopen i efterhand\nMissade du workshopen? Ta del av workshopen genom att titta på inspelningen. \n \n\n \n  \n \nRobert Wiksten\nStrateg digitalisering och cybersäkerhet\, CIMT Region Västerbotten \nRobert arbetar inom Centrum för informationsteknik och medicinsk teknik\, CIMT\, inom Region Västerbotten med ansvar för robust teknisk leverans och cybersäkerhet.
URL:https://digitalimpactnorth.se/event/thursday-insights-9/
CATEGORIES:Workshopserie,Workshopserie - Digitalt
ATTACH;FMTTYPE=image/jpeg:https://digitalimpactnorth.se/wp-content/uploads/2024/03/robert-wiksten-square.jpg
END:VEVENT
END:VCALENDAR