BEGIN:VCALENDAR
VERSION:2.0
PRODID:-//Digital Impact North - ECPv6.2.6//NONSGML v1.0//EN
CALSCALE:GREGORIAN
METHOD:PUBLISH
X-WR-CALNAME:Digital Impact North
X-ORIGINAL-URL:https://digitalimpactnorth.se
X-WR-CALDESC:Events for Digital Impact North
REFRESH-INTERVAL;VALUE=DURATION:PT1H
X-Robots-Tag:noindex
X-PUBLISHED-TTL:PT1H
BEGIN:VTIMEZONE
TZID:Europe/Stockholm
BEGIN:DAYLIGHT
TZOFFSETFROM:+0100
TZOFFSETTO:+0200
TZNAME:CEST
DTSTART:20240331T010000
END:DAYLIGHT
BEGIN:STANDARD
TZOFFSETFROM:+0200
TZOFFSETTO:+0100
TZNAME:CET
DTSTART:20241027T010000
END:STANDARD
END:VTIMEZONE
BEGIN:VEVENT
DTSTART;TZID=Europe/Stockholm:20240229T150000
DTEND;TZID=Europe/Stockholm:20240229T160000
DTSTAMP:20260424T193526
CREATED:20240206T105029Z
LAST-MODIFIED:20240405T103831Z
UID:17943-1709218800-1709222400@digitalimpactnorth.se
SUMMARY:Thursday Insights: Användning av AI i gruvan\, Boliden
DESCRIPTION:Vad kan gruvindustrin lära sig av hopplösa romantiker? Hur ska den konservativa gruvindustrin navigera och hänga med i den snabba utvecklingen inom artificiell intelligens? \nDetta är några av de frågor som tas upp i webinariet med Rasmus Tammia\, chef för Bolidens AI-forskningsprogram. \nInnehåll i workshopen: \n\nFöreläsning av Rasmus Tammia\nPaneldiskussion\nFrågor och svar\n\nTitta på workshopen i efterhand\nMissade du workshopen? Ta del av workshopen genom att titta på inspelningen. \n \n\n\n \nRasmus Tammia\nProgram Manager – Artificial Intelligence in Mining\, Boliden Mines Technology \nMed en civilingenjörsexamen inom teknisk fysik och elektroteknik från Linköpings universitet startade Rasmus sin ingenjörskarriär på Scania där han utvecklade avancerade regler- och signalbehandlingsalgoritmer för Scanias biogasmotorer. Sedan 2019 har han varit en del av ett team inom Boliden som utvecklar toppmoderna lösningar för processtyrning med hjälp av bland annat maskininlärning. \nIdag är han programchef för Bolidens forskningsprogram inom artificiell intelligens. Hans främsta ansvar är att utveckla och realisera Boliden Gruvors långsiktiga strategi inom tillämpad AI och maskininlärning för bland annat processtyrnings- och gruvautomationstillämpningar. \nPanel\nKennet Johansson – Internrevisionschef\, Länsstyrelsen Västerbotten\nKjell-Ove Mickelsson – Specialist Automation & Kraft\, LKAB\nMartin Ärlestig – Verksamhetsutvecklare och ägare\, Mac AB\nPer Lindberg – Projektledare och initiativtagare\, Inlandets Teknikpark
URL:https://digitalimpactnorth.se/event/thursday-insights-5/
CATEGORIES:Workshopserie,Workshopserie - Digitalt
ATTACH;FMTTYPE=image/jpeg:https://digitalimpactnorth.se/wp-content/uploads/2024/02/rasmus-tammia-expand.jpg
END:VEVENT
END:VCALENDAR