BEGIN:VCALENDAR
VERSION:2.0
PRODID:-//Digital Impact North - ECPv6.2.6//NONSGML v1.0//EN
CALSCALE:GREGORIAN
METHOD:PUBLISH
X-WR-CALNAME:Digital Impact North
X-ORIGINAL-URL:https://digitalimpactnorth.se
X-WR-CALDESC:Events for Digital Impact North
REFRESH-INTERVAL;VALUE=DURATION:PT1H
X-Robots-Tag:noindex
X-PUBLISHED-TTL:PT1H
BEGIN:VTIMEZONE
TZID:Europe/Stockholm
BEGIN:DAYLIGHT
TZOFFSETFROM:+0100
TZOFFSETTO:+0200
TZNAME:CEST
DTSTART:20240331T010000
END:DAYLIGHT
BEGIN:STANDARD
TZOFFSETFROM:+0200
TZOFFSETTO:+0100
TZNAME:CET
DTSTART:20241027T010000
END:STANDARD
END:VTIMEZONE
BEGIN:VEVENT
DTSTART;TZID=Europe/Stockholm:20240223T121500
DTEND;TZID=Europe/Stockholm:20240223T130000
DTSTAMP:20260424T212039
CREATED:20240111T161418Z
LAST-MODIFIED:20240201T135416Z
UID:16829-1708690500-1708693200@digitalimpactnorth.se
SUMMARY:#frAIday: AI\, design och more-than-human rättvisa
DESCRIPTION:Framstegen inom artificiell intelligens (AI) har mötts av rigorösa analyser av deras sociala och miljömässiga effekter. Men AI-etiklitteraturen har märkligt nog ägnat mycket mindre energi åt att teoretisera rättvisa och ifrågasätta dess ontologiska gränser. Samtidigt har miljöfilosofin tagit rättvisa på allvar\, även om den har tenderat att fokusera uteslutande på djur och natur. I detta kapitel försöker jag övervinna AI-etikens antropocentriska bias och miljöfilosofins biocentriska bias genom att utveckla en antropocen-informerad teori om rättvisa som kan ta hänsyn till tekniska varelser. För att åstadkomma detta jämför jag flera teorier om rättvisa som är gästvänliga mot icke-människor – mångfald\, planetarisk rättvisa och socio-ekologisk rättvisa. Efter att ha identifierat optimala funktioner från dessa tillvägagångssätt utarbetar jag en lista över designprinciper och förklarar hur de skulle kunna användas i fallet med en personlig leveransanordning. Jag avslutar med att uppmana AI-etik att omfamna komplexitet\, tvärvetenskaplighet och kunskapsteoretisk ödmjukhet i sin strävan efter rättvisa. \nOm talaren\nJoshua C. Gellers\, PhD\, är professor vid institutionen för statsvetenskap och offentlig förvaltning vid University of North Florida. Han är också forskare vid Earth System Governance Project\, expert vid Global AI Ethics Institute och medlem i IEEE:s arbetsgrupp för designcentrerad människa-robot-interaktion och styrning. Joshs forskning fokuserar på miljöstyrning\, rättigheter och teknik. Han har en BA i statsvetenskap från University of Florida\, MA i klimat och samhälle från Columbia University samt MA och PhD i statsvetenskap från University of California\, Irvine.
URL:https://digitalimpactnorth.se/event/fraiday-ai-design-och-more-than-human-rattvisa/
CATEGORIES:#frAIday,Featured,Med anmälan - Digitalt
ATTACH;FMTTYPE=image/webp:https://digitalimpactnorth.se/wp-content/uploads/2024/01/gellers_unf_headshot.webp
END:VEVENT
END:VCALENDAR