BEGIN:VCALENDAR
VERSION:2.0
PRODID:-//Digital Impact North - ECPv6.2.6//NONSGML v1.0//EN
CALSCALE:GREGORIAN
METHOD:PUBLISH
X-ORIGINAL-URL:https://digitalimpactnorth.se
X-WR-CALDESC:Events for Digital Impact North
REFRESH-INTERVAL;VALUE=DURATION:PT1H
X-Robots-Tag:noindex
X-PUBLISHED-TTL:PT1H
BEGIN:VTIMEZONE
TZID:Europe/Stockholm
BEGIN:DAYLIGHT
TZOFFSETFROM:+0100
TZOFFSETTO:+0200
TZNAME:CEST
DTSTART:20230326T010000
END:DAYLIGHT
BEGIN:STANDARD
TZOFFSETFROM:+0200
TZOFFSETTO:+0100
TZNAME:CET
DTSTART:20231029T010000
END:STANDARD
END:VTIMEZONE
BEGIN:VEVENT
DTSTART;TZID=Europe/Stockholm:20231205T110000
DTEND;TZID=Europe/Stockholm:20231206T130000
DTSTAMP:20260425T040323
CREATED:20231019T122204Z
LAST-MODIFIED:20231127T122820Z
UID:14670-1701774000-1701867600@digitalimpactnorth.se
SUMMARY:Mötesplats Digitala Västerbotten
DESCRIPTION:Norra Sveriges största konferens om digitalisering och verksamhetsutveckling.\nMötesplats Digitala Västerbotten vill inspirera\, öka kunskap och underlätta för samverkan mellan individer\, företag och organisationer. Delta online via en sändningsplattform eller i prisbelönta och klimatsmarta Sara Kulturhus i Skellefteå. \nLäs mer om evenemanget. \nGuldmolnet\nMissa inte Guldmolnet som delas ut på kvällen den 5 december. Guldmolnet är Västerbottens utmärkelse till verksamheter i offentlig sektor som utvecklar länet med hjälp av digitalisering. Priset är instiftat av Strategirådet för digital utveckling för att lyfta och motivera det arbete som görs inom det här spännande fältet.
URL:https://digitalimpactnorth.se/event/motesplats-digitala-vasterbotten/
LOCATION:Sara Kulturhus\, Kanalgatan 43b\, 931 31 Skellefteå
CATEGORIES:Featured,Med anmälan
ATTACH;FMTTYPE=image/jpeg:https://digitalimpactnorth.se/wp-content/uploads/2023/10/guldmolnet-digitala-vb.jpg
END:VEVENT
END:VCALENDAR