BEGIN:VCALENDAR
VERSION:2.0
PRODID:-//Digital Impact North - ECPv6.2.6//NONSGML v1.0//EN
CALSCALE:GREGORIAN
METHOD:PUBLISH
X-ORIGINAL-URL:https://digitalimpactnorth.se
X-WR-CALDESC:Events for Digital Impact North
REFRESH-INTERVAL;VALUE=DURATION:PT1H
X-Robots-Tag:noindex
X-PUBLISHED-TTL:PT1H
BEGIN:VTIMEZONE
TZID:Europe/Stockholm
BEGIN:DAYLIGHT
TZOFFSETFROM:+0100
TZOFFSETTO:+0200
TZNAME:CEST
DTSTART:20230326T010000
END:DAYLIGHT
BEGIN:STANDARD
TZOFFSETFROM:+0200
TZOFFSETTO:+0100
TZNAME:CET
DTSTART:20231029T010000
END:STANDARD
END:VTIMEZONE
BEGIN:VEVENT
DTSTART;TZID=Europe/Stockholm:20231128T150000
DTEND;TZID=Europe/Stockholm:20231128T170000
DTSTAMP:20260425T171101
CREATED:20231019T133409Z
LAST-MODIFIED:20231019T135145Z
UID:14719-1701183600-1701190800@digitalimpactnorth.se
SUMMARY:Nordic HealthTech Mixer
DESCRIPTION:Välkommen att nätverka med Nordic HealthTech-investerare\, start-ups och intressenter för att diskutera hur du kan utveckla ditt företag och främja strategiska partnerskap. \nBranschaktörer från Danmark kommer att få sällskap av bland annat ambassadörer från Norge\, Sverige och Finland som ett tecken på nordiska synergier. \nProgramuppdateringar kommer att distribueras via e-post. \nSnacks och förfriskningar kommer att serveras. \nBusstransfer till NLSDays välkomstmottagning i Lund\, Sverige finns tillgänglig.
URL:https://digitalimpactnorth.se/event/nordic-healthtech-mixer/
LOCATION:Eigtveds Pakhus\, Strandgade 25D\, 1401 Copenhagen
CATEGORIES:Featured,Med anmälan
ATTACH;FMTTYPE=image/jpeg:https://digitalimpactnorth.se/wp-content/uploads/2023/10/karl-hornfeldt-DEHBFJyBRlU-unsplash.jpg
END:VEVENT
END:VCALENDAR