BEGIN:VCALENDAR
VERSION:2.0
PRODID:-//Digital Impact North - ECPv6.2.6//NONSGML v1.0//EN
CALSCALE:GREGORIAN
METHOD:PUBLISH
X-WR-CALNAME:Digital Impact North
X-ORIGINAL-URL:https://digitalimpactnorth.se
X-WR-CALDESC:Events for Digital Impact North
REFRESH-INTERVAL;VALUE=DURATION:PT1H
X-Robots-Tag:noindex
X-PUBLISHED-TTL:PT1H
BEGIN:VTIMEZONE
TZID:Europe/Stockholm
BEGIN:DAYLIGHT
TZOFFSETFROM:+0100
TZOFFSETTO:+0200
TZNAME:CEST
DTSTART:20240331T010000
END:DAYLIGHT
BEGIN:STANDARD
TZOFFSETFROM:+0200
TZOFFSETTO:+0100
TZNAME:CET
DTSTART:20241027T010000
END:STANDARD
END:VTIMEZONE
BEGIN:VEVENT
DTSTART;TZID=Europe/Stockholm:20240222T150000
DTEND;TZID=Europe/Stockholm:20240222T160000
DTSTAMP:20260421T163155
CREATED:20240206T104601Z
LAST-MODIFIED:20240320T143931Z
UID:17941-1708614000-1708617600@digitalimpactnorth.se
SUMMARY:Thursday Insights: Möjligheter och utmaningar för digitalisering och AI i praktiken
DESCRIPTION:Möjligheter och utmaningar för digitalisering och AI i praktiken\, en diskussion om hur vi skapar framtidens användarcentrerade lösningar.  \nInsikter och reflektioner från ett utvecklarperspektiv. Hur utvecklar vi nya användbara tjänster som skapar värde i samhället och vad är de största möjligheterna och fallgroparna? \nOfta handlar tillämpning av teknik inom en organisation inte om tekniken i sig\, utan vilken nytta den tilltänkta lösningen ska tillföra och på vilket sätt. Tekniken blir en ett sidospår och de tekniska experterna behöver förstå verksamhetens utmaningar\, syften och mål för att för att kunna skapa morgondagens verktyg. Denna workshop syftar till att utforska teknologins roll ur ett användarcentrerat perspektiv\, där målet är att skapa lösningar och verktyg som inte bara är tekniskt innovativa utan också adresserar verkliga utmaningar och behov hos användarna. \nInnehåll i webbinariet: \n\nMöjligheter och utmaningar med framtidens teknik\nAtt ta fram digitala lösningar och bygga system\nFramtidsspaning\n\nTitta på workshopen i efterhand\nMissade du workshopen? Ta del av workshopen genom att titta på inspelningen. \n﻿\n\n\nFredrik Nilbrink\nSenior Software Developer\, RISE Research Institutes of Sweden \nFredrik arbetar som senior utvecklare för RISE inom enheten samhällstranformation. Han har bakgrund inom elektronik och mjukvaruutveckling och har jobbat med prototyputveckling inom interaktionsdesign både inom universitet\, privat sektor och institut. Han klassar sig som en mjukvaruutvecklare/teknisk projektledare med fokus på att bygga användarcentrerade lösningar. När det gäller AI är han framför allt intresserad av hur man utnyttjar tekniken för att skapa värde för människor genom att fokusera på användarens perspektiv.
URL:https://digitalimpactnorth.se/event/thursday-insights-4/
CATEGORIES:Workshopserie,Workshopserie - Digitalt
ATTACH;FMTTYPE=image/jpeg:https://digitalimpactnorth.se/wp-content/uploads/2024/02/FredrikUmea1-expanded-1.jpg
END:VEVENT
END:VCALENDAR