BEGIN:VCALENDAR
VERSION:2.0
PRODID:-//Digital Impact North - ECPv6.2.6//NONSGML v1.0//EN
CALSCALE:GREGORIAN
METHOD:PUBLISH
X-WR-CALNAME:Digital Impact North
X-ORIGINAL-URL:https://digitalimpactnorth.se
X-WR-CALDESC:Events for Digital Impact North
REFRESH-INTERVAL;VALUE=DURATION:PT1H
X-Robots-Tag:noindex
X-PUBLISHED-TTL:PT1H
BEGIN:VTIMEZONE
TZID:Europe/Stockholm
BEGIN:DAYLIGHT
TZOFFSETFROM:+0100
TZOFFSETTO:+0200
TZNAME:CEST
DTSTART:20240331T010000
END:DAYLIGHT
BEGIN:STANDARD
TZOFFSETFROM:+0200
TZOFFSETTO:+0100
TZNAME:CET
DTSTART:20241027T010000
END:STANDARD
END:VTIMEZONE
BEGIN:VEVENT
DTSTART;TZID=Europe/Stockholm:20240208T150000
DTEND;TZID=Europe/Stockholm:20240208T160000
DTSTAMP:20260421T144518
CREATED:20240112T081652Z
LAST-MODIFIED:20240301T085526Z
UID:16866-1707404400-1707408000@digitalimpactnorth.se
SUMMARY:Thursday Insights: Platsbaserade digitala plattformar och attraktiva hållbara samhällen
DESCRIPTION:Vi lever idag i de digitala plattformarnas århundrade. Samtidigt som vi i snabbt ökande takt flyttar in i våra städer\, kontorsmiljöer och skärmar riktar vi alltmer uppmärksamhet till globala tjänster och flöden\, tillgängliga via digitala plattformar som Amazon\, Spotify\, Facebook\, Klarna osv. \nVad betyder detta för oss som konsumenter och producenter\, och vad betyder det för utvecklingen av våra platser och samhällen? \nUnder denna workshop presenteras och diskuteras hur digitala plattformar i grunden håller på att förändra våra platser och samhällen\, och hur kommuner\, men också företag och entreprenörer\, kan nyttja dessa teknologier för att snabbare utvecklas och ställa om till attraktiva hållbara samhällen. Under workshopen kommer goda exempel på platsbaserade digitala plattformar som bl.a kommuner nyttjat för att möta samhällsutmaningar demonstreras och diskuteras \nMålgrupp: Plats- och verksamhetsutvecklare vid kommuner och regioner\, samt företag och organisationer intresserade av digitala platsbaserade plattformar och tjänster. \nTitta på workshopen i efterhand\nMissade du workshopen? Ta del av workshopen genom att titta på inspelningen. \n \nPer Levén\nUniversitetslektor vid Institutionen för informatik\nPer Levén är forskare inom digitala plattformar och hållbara samhällen vid informatik och Swedish Center for Digital Innovation (SCDI)\, Umeå universitet. Vid sidan av sin forskning har han varit en av de drivande bakom samverkansplattformar som ProcessIT Innovations och iHubs Sweden. För närvarande är han engagerad i Digital Impact North. \n \nPanel\nCamilla Jägerving Isaksson\, Utvecklingsstrateg\, Umeå kommun\nMaria Olofsson\, Verksamhetsledare\, Uminova Innovation\nLinn Alexandersson\, Landsbygdsstrateg\, Umeå kommun\nRoger Filipsson\, Verksamhetsledare\, Coompanion Västerbotten\nSune Westberg\, Kultur- och fritidschef\, Örnsköldsviks kommun\nAlbert Edman\, Senior Projektledare\, RISE Research Institutes of Sweden\nKatrin Jonsson\, Prefekt\, Informatik vid Umeå universitet
URL:https://digitalimpactnorth.se/event/thursday-insights-2/
LOCATION:MIT.C.413\, MIT-huset\, Umeå Universitet\, Campustorget 5\, 901 87 Umeå
CATEGORIES:Workshopserie,Workshopserie - Hybrid
ATTACH;FMTTYPE=image/jpeg:https://digitalimpactnorth.se/wp-content/uploads/2023/12/digitala-seniortorget-scaled-e1702909181483.jpg
END:VEVENT
END:VCALENDAR